BEGIN:VCALENDAR
VERSION:2.0
PRODID:-//Portal dos Conselhos de Ubatuba - ECPv4.6.19//NONSGML v1.0//EN
CALSCALE:GREGORIAN
METHOD:PUBLISH
X-WR-CALNAME:Portal dos Conselhos de Ubatuba
X-ORIGINAL-URL:https://conselhos.ubatuba.sp.gov.br
X-WR-CALDESC:Eventos para Portal dos Conselhos de Ubatuba
BEGIN:VEVENT
DTSTART;TZID=America/Sao_Paulo:20180620T170000
DTEND;TZID=America/Sao_Paulo:20180620T180000
DTSTAMP:20260423T091054
CREATED:20180904T184601Z
LAST-MODIFIED:20180621T123245Z
UID:205-1529514000-1529517600@conselhos.ubatuba.sp.gov.br
SUMMARY:Teste CMDCA
DESCRIPTION:Teste CMDCA \n
URL:https://conselhos.ubatuba.sp.gov.br/evento/teste-cmdca/
LOCATION:Rua Dona Maria Alves\, 865\, Ubatuba\, SP\, 11680-000\, Brasil
CATEGORIES:Conselho Municipal da Criança e do Adolescente
END:VEVENT
END:VCALENDAR