BEGIN:VCALENDAR
VERSION:2.0
PRODID:-//Portal dos Conselhos de Ubatuba - ECPv4.6.19//NONSGML v1.0//EN
CALSCALE:GREGORIAN
METHOD:PUBLISH
X-WR-CALNAME:Portal dos Conselhos de Ubatuba
X-ORIGINAL-URL:https://conselhos.ubatuba.sp.gov.br
X-WR-CALDESC:Eventos para Portal dos Conselhos de Ubatuba
BEGIN:VEVENT
DTSTART;TZID=America/Sao_Paulo:20251014T140000
DTEND;TZID=America/Sao_Paulo:20251014T170000
DTSTAMP:20260421T173818
CREATED:20251013T013458Z
LAST-MODIFIED:20251013T013520Z
UID:3553-1760450400-1760461200@conselhos.ubatuba.sp.gov.br
SUMMARY:REUNIÃO ORDINÁRIA DE OUTUBRO – PRESENCIAL
DESCRIPTION:REUNIÃO ORDINÁRIA DE OUTUBRO – PRESENCIAL \n  \nAguardando atualizações… \n
URL:https://conselhos.ubatuba.sp.gov.br/evento/reuniao-ordinaria-de-outubro-presencial/
END:VEVENT
END:VCALENDAR