BEGIN:VCALENDAR
VERSION:2.0
PRODID:-//Portal dos Conselhos de Ubatuba - ECPv4.6.19//NONSGML v1.0//EN
CALSCALE:GREGORIAN
METHOD:PUBLISH
X-WR-CALNAME:Portal dos Conselhos de Ubatuba
X-ORIGINAL-URL:https://conselhos.ubatuba.sp.gov.br
X-WR-CALDESC:Eventos para Portal dos Conselhos de Ubatuba
BEGIN:VEVENT
DTSTART;TZID=America/Sao_Paulo:20251111T140000
DTEND;TZID=America/Sao_Paulo:20251111T170000
DTSTAMP:20260421T173818
CREATED:20251109T232807Z
LAST-MODIFIED:20251109T232807Z
UID:3647-1762869600-1762880400@conselhos.ubatuba.sp.gov.br
SUMMARY:REUNIÃO ORDINÁRIA DE NOVEMBRO – PRESENCIAL
DESCRIPTION:REUNIÃO ORDINÁRIA DE NOVEMBRO – PRESENCI \nI. DIA 11 DE NOVEMBRO – TERÇA FEIRA – REUNIÃO ORDINÁRIA \nPRESENCIAL – AUDITÓRIO DA ACIU \n  \n1ª chamada 14:00 horas. \n2ª chamada 14:20 horas. \nLocal: ACIU – Rua Dr Esteves da Silva\, 51\, Centro\, Ubatuba. \n• I – APROVAÇÃO DA ATA: \n1. Aprovar a ata de 14/10/2025 – Outubro \n• II -INFORMES: \n1. Envios de pedido de informação do COMUS X RH ( Ref. funcionários afastado) \n2. Envio de ofício a Comissão de Visitas a pedido da Comissão de Ética ref a atendimento S.C. \n3. Convite recebido da SMS – Ref. Desfile Cívico no aniversário da Cidade \n4. Emai-l recebido da S.C. / Miller com pedido de pauta \n5. Emai-l da comunicação tratando sobre o controle dos crachas \n6. Emai-l da Comunicação ref a atualização dos decretos do COMUS X portal também \n7. Justificativas das faltas da Simone\, Josiane\, Edmar e José Natale. \n8. Ofício do IUSE/Alex ref pedido de inserção dos suplentes nos grupos das comissões. \n9. Pedido pela Comunicação para alteração no portal X gravação \n10. Recebido resposta do questionamento na Prestação de Contas do 2º RDQA por esse Conselho. \n11. Email da Léo X sugestão de pauta Setores da ACS e Medicina do Trabalho \n12. Léo – Recebimento pelo Conselho Estadual de Saúde da publicação no Diário Oficial da Moção de Apoio – Fórum dos Conselhos de Atividade-fim da área da Saúde -SP \n• III – DAS PAUTAS DE APRESENTAÇÃO: \n1. Apresentação dos trabalhos do setor Ambulatório de Infectologia Municipal \n2. Pauta da Santa Casa – Apresentação Miller \n• IV – DELIBERAÇÃO E APROVAÇÃO DA PLENÁRIA: \n1. Proposta de realizar um jantar de confraternização em dezembro\, possivelmente integrado a uma capacitação. \n2. ISPU/Pascoal – Sobre solicitar esclarecimentos da Secretaria de Saúde para apresentação da nova versão do planejamento orçamentário em consonância com o que foi contemplado pela Secretaria de Fazenda\, no momento oportuno. \nContamos com a presença de todos! \nLeovigilda César \nPresidenta do COMUS – Biênio 2024/2026 \n  \n  \n  \n  \n  \n  \n  \n
URL:https://conselhos.ubatuba.sp.gov.br/evento/reuniao-ordinaria-de-novembro-presencial/
END:VEVENT
END:VCALENDAR